Package: AnnotationHub Version: 3.99.6 Maintainer: Bioconductor Package Maintainer MaintainerEmail: maintainer at bioconductor.org git_url: https://git.bioconductor.org/packages/AnnotationHub git_branch: devel git_last_commit: 11758ef git_last_commit_date: 2025-07-25 08:12:30 -0400 (Fri, 25 Jul 2025)