Package: AnnotationForge Version: 1.51.0 Command: /home/biocbuild/R/R/bin/R CMD INSTALL AnnotationForge StartedAt: 2025-10-09 21:19:47 -0000 (Thu, 09 Oct 2025) EndedAt: 2025-10-09 21:20:10 -0000 (Thu, 09 Oct 2025) EllapsedTime: 23.7 seconds RetCode: 0 Status: OK