Package: AnnotationForge Version: 1.51.0 Command: /home/biocbuild/R/R/bin/R CMD build --keep-empty-dirs --no-resave-data AnnotationForge StartedAt: 2025-10-09 22:31:45 -0000 (Thu, 09 Oct 2025) EndedAt: 2025-10-09 22:35:21 -0000 (Thu, 09 Oct 2025) EllapsedTime: 216.1 seconds RetCode: 0 Status: OK PackageFile: AnnotationForge_1.51.0.tar.gz PackageFileSize: 3.85 MiB