Package: AnnotationForge Version: 1.51.0 Command: rm -rf AnnotationForge.buildbin-libdir && mkdir AnnotationForge.buildbin-libdir && F:\biocbuild\bbs-3.22-bioc\R\bin\R.exe CMD INSTALL --build --library=AnnotationForge.buildbin-libdir AnnotationForge_1.51.0.tar.gz StartedAt: 2025-08-15 09:43:24 -0400 (Fri, 15 Aug 2025) EndedAt: 2025-08-15 09:45:36 -0400 (Fri, 15 Aug 2025) EllapsedTime: 132.8 seconds RetCode: 0 Status: OK PackageFile: AnnotationForge_1.51.0.zip PackageFileSize: 4.374 MiB