Package: AnnotationForge Version: 1.53.0 Command: /home/biocbuild/bbs-3.23-bioc/R/bin/R CMD INSTALL AnnotationForge StartedAt: 2025-11-05 15:32:40 -0500 (Wed, 05 Nov 2025) EndedAt: 2025-11-05 15:32:58 -0500 (Wed, 05 Nov 2025) EllapsedTime: 17.3 seconds RetCode: 0 Status: OK