Package: AnnotationForge Version: 1.53.0 Command: /home/biocbuild/bbs-3.23-bioc/R/bin/R CMD check --install=check:AnnotationForge.install-out.txt --library=/home/biocbuild/bbs-3.23-bioc/R/site-library --timings AnnotationForge_1.53.0.tar.gz StartedAt: 2025-11-06 20:54:17 -0500 (Thu, 06 Nov 2025) EndedAt: 2025-11-06 20:58:51 -0500 (Thu, 06 Nov 2025) EllapsedTime: 273.5 seconds RetCode: 0 Status: OK CheckDir: AnnotationForge.Rcheck Warnings: 0