Package: AnnotationForge Version: 1.53.0 Command: /home/biocbuild/bbs-3.23-bioc/R/bin/R CMD build --keep-empty-dirs --no-resave-data AnnotationForge StartedAt: 2025-11-06 16:10:44 -0500 (Thu, 06 Nov 2025) EndedAt: 2025-11-06 16:13:30 -0500 (Thu, 06 Nov 2025) EllapsedTime: 166.2 seconds RetCode: 0 Status: OK PackageFile: AnnotationForge_1.53.0.tar.gz PackageFileSize: 3.839 MiB