Package: AnnotationDbi Version: 1.71.1 Command: rm -rf AnnotationDbi.buildbin-libdir && mkdir AnnotationDbi.buildbin-libdir && F:\biocbuild\bbs-3.22-bioc\R\bin\R.exe CMD INSTALL --build --library=AnnotationDbi.buildbin-libdir AnnotationDbi_1.71.1.tar.gz StartedAt: 2025-08-15 09:43:20 -0400 (Fri, 15 Aug 2025) EndedAt: 2025-08-15 09:46:20 -0400 (Fri, 15 Aug 2025) EllapsedTime: 179.1 seconds RetCode: 0 Status: OK PackageFile: AnnotationDbi_1.71.1.zip PackageFileSize: 5.04 MiB