Package: AnnotationDbi Version: 1.73.0 Command: /home/biocbuild/bbs-3.23-bioc/R/bin/R CMD INSTALL AnnotationDbi StartedAt: 2025-11-03 15:24:35 -0500 (Mon, 03 Nov 2025) EndedAt: 2025-11-03 15:24:54 -0500 (Mon, 03 Nov 2025) EllapsedTime: 19.1 seconds RetCode: 0 Status: OK