Package: AnnotationDbi Version: 1.73.0 Command: /home/biocbuild/bbs-3.23-bioc/R/bin/R CMD check --install=check:AnnotationDbi.install-out.txt --library=/home/biocbuild/bbs-3.23-bioc/R/site-library --timings AnnotationDbi_1.73.0.tar.gz StartedAt: 2025-11-05 21:01:38 -0500 (Wed, 05 Nov 2025) EndedAt: 2025-11-05 21:05:47 -0500 (Wed, 05 Nov 2025) EllapsedTime: 248.5 seconds RetCode: 0 Status: WARNINGS CheckDir: AnnotationDbi.Rcheck Warnings: 1