Package: Anaquin Version: 2.35.0 Command: /home/biocbuild/bbs-3.23-bioc/R/bin/R CMD INSTALL Anaquin StartedAt: 2025-11-20 15:22:07 -0500 (Thu, 20 Nov 2025) EndedAt: 2025-11-20 15:22:13 -0500 (Thu, 20 Nov 2025) EllapsedTime: 5.8 seconds RetCode: 0 Status: OK