Package: Anaquin Version: 2.35.0 Command: /home/biocbuild/bbs-3.23-bioc/R/bin/R CMD build --keep-empty-dirs --no-resave-data Anaquin StartedAt: 2025-11-20 16:10:33 -0500 (Thu, 20 Nov 2025) EndedAt: 2025-11-20 16:10:58 -0500 (Thu, 20 Nov 2025) EllapsedTime: 25.0 seconds RetCode: 0 Status: OK PackageFile: Anaquin_2.35.0.tar.gz PackageFileSize: 452.5 KiB