Package: Anaquin Version: 2.33.0 Command: /Library/Frameworks/R.framework/Resources/bin/R CMD INSTALL Anaquin StartedAt: 2025-10-24 15:30:43 -0400 (Fri, 24 Oct 2025) EndedAt: 2025-10-24 15:30:52 -0400 (Fri, 24 Oct 2025) EllapsedTime: 9.4 seconds RetCode: 0 Status: OK