Package: Anaquin Version: 2.33.0 Command: /Library/Frameworks/R.framework/Resources/bin/R CMD INSTALL Anaquin StartedAt: 2025-10-14 15:14:33 -0400 (Tue, 14 Oct 2025) EndedAt: 2025-10-14 15:14:35 -0400 (Tue, 14 Oct 2025) EllapsedTime: 2.8 seconds RetCode: 0 Status: OK