Package: Anaquin Version: 2.33.0 Command: /Library/Frameworks/R.framework/Resources/bin/R CMD build --keep-empty-dirs --no-resave-data Anaquin StartedAt: 2025-10-13 15:37:52 -0400 (Mon, 13 Oct 2025) EndedAt: 2025-10-13 15:38:03 -0400 (Mon, 13 Oct 2025) EllapsedTime: 11.1 seconds RetCode: 0 Status: OK PackageFile: Anaquin_2.33.0.tar.gz PackageFileSize: 452.4 KiB