Package: Anaquin Version: 2.33.0 Command: rm -rf Anaquin.buildbin-libdir && mkdir Anaquin.buildbin-libdir && /Users/biocbuild/BBS/utils/build-universal.sh Anaquin_2.33.0.tar.gz /Library/Frameworks/R.framework/Resources/bin/R Anaquin.buildbin-libdir StartedAt: 2025-10-14 23:12:49 -0400 (Tue, 14 Oct 2025) EndedAt: 2025-10-14 23:12:53 -0400 (Tue, 14 Oct 2025) EllapsedTime: 3.1 seconds RetCode: 0 Status: OK PackageFile: Anaquin_2.33.0.tgz PackageFileSize: 457.6 KiB