Package: AnVILWorkflow Version: 1.9.0 Command: /home/biocbuild/R/R/bin/R CMD INSTALL AnVILWorkflow StartedAt: 2025-10-20 20:22:46 -0000 (Mon, 20 Oct 2025) EndedAt: 2025-10-20 20:23:13 -0000 (Mon, 20 Oct 2025) EllapsedTime: 26.5 seconds RetCode: 0 Status: OK