Package: AnVILWorkflow Version: 1.9.0 Command: F:\biocbuild\bbs-3.22-bioc\R\bin\R.exe CMD INSTALL AnVILWorkflow StartedAt: 2025-08-14 15:32:52 -0400 (Thu, 14 Aug 2025) EndedAt: 2025-08-14 15:33:21 -0400 (Thu, 14 Aug 2025) EllapsedTime: 29.1 seconds RetCode: 0 Status: OK