Package: AnVILWorkflow Version: 1.9.0 Command: chmod a+r AnVILWorkflow -R && F:\biocbuild\bbs-3.22-bioc\R\bin\R.exe CMD build --keep-empty-dirs --no-resave-data AnVILWorkflow StartedAt: 2025-08-14 18:27:52 -0400 (Thu, 14 Aug 2025) EndedAt: 2025-08-14 18:28:29 -0400 (Thu, 14 Aug 2025) EllapsedTime: 36.8 seconds RetCode: 0 Status: OK PackageFile: AnVILWorkflow_1.9.0.tar.gz PackageFileSize: 1.117 MiB