Package: AnVILWorkflow Version: 1.11.0 Command: /home/biocbuild/bbs-3.23-bioc/R/bin/R CMD check --install=check:AnVILWorkflow.install-out.txt --library=/home/biocbuild/bbs-3.23-bioc/R/site-library --timings AnVILWorkflow_1.11.0.tar.gz StartedAt: 2025-11-06 20:56:28 -0500 (Thu, 06 Nov 2025) EndedAt: 2025-11-06 20:57:04 -0500 (Thu, 06 Nov 2025) EllapsedTime: 36.1 seconds RetCode: 0 Status: WARNINGS CheckDir: AnVILWorkflow.Rcheck Warnings: 2