Package: AnVILWorkflow Version: 1.11.0 Command: /home/biocbuild/bbs-3.23-bioc/R/bin/R CMD build --keep-empty-dirs --no-resave-data AnVILWorkflow StartedAt: 2025-11-20 16:12:20 -0500 (Thu, 20 Nov 2025) EndedAt: 2025-11-20 16:12:26 -0500 (Thu, 20 Nov 2025) EllapsedTime: 6.0 seconds RetCode: 1 Status: ERROR PackageFile: None PackageFileSize: NA