Package: AnVILPublish Version: 1.21.0 Command: /home/biocbuild/bbs-3.23-bioc/R/bin/R CMD INSTALL AnVILPublish StartedAt: 2025-11-21 15:09:51 -0500 (Fri, 21 Nov 2025) EndedAt: 2025-11-21 15:09:55 -0500 (Fri, 21 Nov 2025) EllapsedTime: 4.4 seconds RetCode: 0 Status: OK