Package: AnVILPublish Version: 1.21.0 Command: /Library/Frameworks/R.framework/Resources/bin/R CMD build --keep-empty-dirs --no-resave-data AnVILPublish StartedAt: 2025-11-21 16:05:09 -0500 (Fri, 21 Nov 2025) EndedAt: 2025-11-21 16:05:24 -0500 (Fri, 21 Nov 2025) EllapsedTime: 14.9 seconds RetCode: 0 Status: OK PackageFile: AnVILPublish_1.21.0.tar.gz PackageFileSize: 236 KiB