Package: AnVILGCP Version: 1.5.3 Command: /home/biocbuild/bbs-3.23-bioc/R/bin/R CMD INSTALL AnVILGCP StartedAt: 2025-11-20 15:08:44 -0500 (Thu, 20 Nov 2025) EndedAt: 2025-11-20 15:08:50 -0500 (Thu, 20 Nov 2025) EllapsedTime: 5.6 seconds RetCode: 0 Status: OK