Package: AnVILGCP Version: 1.5.3 Command: /home/biocbuild/bbs-3.23-bioc/R/bin/R CMD build --keep-empty-dirs --no-resave-data AnVILGCP StartedAt: 2025-11-20 16:12:15 -0500 (Thu, 20 Nov 2025) EndedAt: 2025-11-20 16:12:23 -0500 (Thu, 20 Nov 2025) EllapsedTime: 8.0 seconds RetCode: 0 Status: OK PackageFile: AnVILGCP_1.5.3.tar.gz PackageFileSize: 414.4 KiB