Package: AnVILGCP Version: 1.3.11 Command: /Library/Frameworks/R.framework/Resources/bin/R CMD build --keep-empty-dirs --no-resave-data AnVILGCP StartedAt: 2025-10-16 16:28:21 -0400 (Thu, 16 Oct 2025) EndedAt: 2025-10-16 16:28:38 -0400 (Thu, 16 Oct 2025) EllapsedTime: 17.2 seconds RetCode: 0 Status: OK PackageFile: AnVILGCP_1.3.11.tar.gz PackageFileSize: 414.5 KiB