Package: AnVILGCP Version: 1.3.11 Command: /Library/Frameworks/R.framework/Resources/bin/R CMD INSTALL AnVILGCP StartedAt: 2025-09-30 15:05:41 -0400 (Tue, 30 Sep 2025) EndedAt: 2025-09-30 15:05:44 -0400 (Tue, 30 Sep 2025) EllapsedTime: 2.6 seconds RetCode: 0 Status: OK