Package: AnVILGCP Version: 1.3.11 Command: /Library/Frameworks/R.framework/Resources/bin/R CMD build --keep-empty-dirs --no-resave-data AnVILGCP StartedAt: 2025-09-30 15:38:25 -0400 (Tue, 30 Sep 2025) EndedAt: 2025-09-30 15:38:29 -0400 (Tue, 30 Sep 2025) EllapsedTime: 4.1 seconds RetCode: 0 Status: OK PackageFile: AnVILGCP_1.3.11.tar.gz PackageFileSize: 414.6 KiB