Package: AnVILBilling Version: 1.21.0 Command: /home/biocbuild/bbs-3.23-bioc/R/bin/R CMD INSTALL AnVILBilling StartedAt: 2025-11-20 15:08:14 -0500 (Thu, 20 Nov 2025) EndedAt: 2025-11-20 15:08:26 -0500 (Thu, 20 Nov 2025) EllapsedTime: 12.5 seconds RetCode: 0 Status: OK