Package: AnVILBilling Version: 1.21.0 Command: /home/biocbuild/bbs-3.23-bioc/R/bin/R CMD build --keep-empty-dirs --no-resave-data AnVILBilling StartedAt: 2025-11-20 16:12:14 -0500 (Thu, 20 Nov 2025) EndedAt: 2025-11-20 16:12:28 -0500 (Thu, 20 Nov 2025) EllapsedTime: 14.0 seconds RetCode: 0 Status: OK PackageFile: AnVILBilling_1.21.0.tar.gz PackageFileSize: 1.006 MiB