Package: AnVILBilling Version: 1.19.0 Command: /Library/Frameworks/R.framework/Resources/bin/R CMD INSTALL AnVILBilling StartedAt: 2025-10-22 15:05:18 -0400 (Wed, 22 Oct 2025) EndedAt: 2025-10-22 15:05:21 -0400 (Wed, 22 Oct 2025) EllapsedTime: 3.3 seconds RetCode: 0 Status: OK