Package: AnVILBilling Version: 1.19.0 Command: /Library/Frameworks/R.framework/Resources/bin/R CMD build --keep-empty-dirs --no-resave-data AnVILBilling StartedAt: 2025-10-22 15:38:20 -0400 (Wed, 22 Oct 2025) EndedAt: 2025-10-22 15:38:26 -0400 (Wed, 22 Oct 2025) EllapsedTime: 6.1 seconds RetCode: 0 Status: OK PackageFile: AnVILBilling_1.19.0.tar.gz PackageFileSize: 1.006 MiB