Package: AnVILBilling Version: 1.19.0 Command: rm -rf AnVILBilling.buildbin-libdir && mkdir AnVILBilling.buildbin-libdir && /Users/biocbuild/BBS/utils/build-universal.sh AnVILBilling_1.19.0.tar.gz /Library/Frameworks/R.framework/Resources/bin/R AnVILBilling.buildbin-libdir StartedAt: 2025-10-22 22:51:44 -0400 (Wed, 22 Oct 2025) EndedAt: 2025-10-22 22:51:49 -0400 (Wed, 22 Oct 2025) EllapsedTime: 4.2 seconds RetCode: 0 Status: OK PackageFile: AnVILBilling_1.19.0.tgz PackageFileSize: 744.5 KiB