Package: AnVILBase Version: 1.3.1 Command: rm -rf AnVILBase.buildbin-libdir && mkdir AnVILBase.buildbin-libdir && F:\biocbuild\bbs-3.22-bioc\R\bin\R.exe CMD INSTALL --build --library=AnVILBase.buildbin-libdir AnVILBase_1.3.1.tar.gz StartedAt: 2025-08-15 09:43:57 -0400 (Fri, 15 Aug 2025) EndedAt: 2025-08-15 09:44:28 -0400 (Fri, 15 Aug 2025) EllapsedTime: 30.8 seconds RetCode: 0 Status: OK PackageFile: AnVILBase_1.3.1.zip PackageFileSize: 313 KiB