Package: AnVILBase Version: 1.5.0 Command: /home/biocbuild/bbs-3.23-bioc/R/bin/R CMD INSTALL AnVILBase StartedAt: 2025-10-31 15:17:01 -0400 (Fri, 31 Oct 2025) EndedAt: 2025-10-31 15:17:09 -0400 (Fri, 31 Oct 2025) EllapsedTime: 8.0 seconds RetCode: 0 Status: OK