Package: AnVILBase Version: 1.5.0 Command: /home/biocbuild/bbs-3.23-bioc/R/bin/R CMD build --keep-empty-dirs --no-resave-data AnVILBase StartedAt: 2025-10-31 16:29:06 -0400 (Fri, 31 Oct 2025) EndedAt: 2025-10-31 16:29:12 -0400 (Fri, 31 Oct 2025) EllapsedTime: 6.0 seconds RetCode: 0 Status: OK PackageFile: AnVILBase_1.5.0.tar.gz PackageFileSize: 227.9 KiB