Package: AnVILAz Version: 1.3.1 Command: /home/biocbuild/R/R/bin/R CMD INSTALL AnVILAz StartedAt: 2025-10-23 20:26:39 -0000 (Thu, 23 Oct 2025) EndedAt: 2025-10-23 20:26:50 -0000 (Thu, 23 Oct 2025) EllapsedTime: 10.8 seconds RetCode: 0 Status: OK