Package: AnVILAz Version: 1.3.1 Command: /home/biocbuild/bbs-3.22-bioc/R/bin/R CMD check --install=check:AnVILAz.install-out.txt --library=/home/biocbuild/bbs-3.22-bioc/R/site-library --timings AnVILAz_1.3.1.tar.gz StartedAt: 2025-10-13 21:07:36 -0400 (Mon, 13 Oct 2025) EndedAt: 2025-10-13 21:08:08 -0400 (Mon, 13 Oct 2025) EllapsedTime: 32.0 seconds RetCode: 0 Status: OK CheckDir: AnVILAz.Rcheck Warnings: 0