Package: AnVILAz Version: 1.5.0 Command: /home/biocbuild/bbs-3.23-bioc/R/bin/R CMD INSTALL AnVILAz StartedAt: 2025-11-20 15:08:36 -0500 (Thu, 20 Nov 2025) EndedAt: 2025-11-20 15:08:39 -0500 (Thu, 20 Nov 2025) EllapsedTime: 3.3 seconds RetCode: 0 Status: OK