Package: AnVILAz Version: 1.5.0 Command: /home/biocbuild/bbs-3.23-bioc/R/bin/R CMD check --install=check:AnVILAz.install-out.txt --library=/home/biocbuild/bbs-3.23-bioc/R/site-library --timings AnVILAz_1.5.0.tar.gz StartedAt: 2025-11-20 21:03:55 -0500 (Thu, 20 Nov 2025) EndedAt: 2025-11-20 21:04:27 -0500 (Thu, 20 Nov 2025) EllapsedTime: 32.1 seconds RetCode: 0 Status: OK CheckDir: AnVILAz.Rcheck Warnings: 0