Package: AnVIL Version: 1.23.0 Command: /home/biocbuild/bbs-3.23-bioc/R/bin/R CMD INSTALL AnVIL StartedAt: 2025-11-20 15:08:44 -0500 (Thu, 20 Nov 2025) EndedAt: 2025-11-20 15:08:48 -0500 (Thu, 20 Nov 2025) EllapsedTime: 4.8 seconds RetCode: 0 Status: OK