Package: AnVIL Version: 1.23.0 Command: /home/biocbuild/bbs-3.23-bioc/R/bin/R CMD build --keep-empty-dirs --no-resave-data AnVIL StartedAt: 2025-11-20 16:12:03 -0500 (Thu, 20 Nov 2025) EndedAt: 2025-11-20 16:12:12 -0500 (Thu, 20 Nov 2025) EllapsedTime: 9.0 seconds RetCode: 1 Status: ERROR PackageFile: None PackageFileSize: NA