Package: AnVIL Version: 1.21.10 Command: /Library/Frameworks/R.framework/Resources/bin/R CMD INSTALL AnVIL StartedAt: 2025-10-10 15:07:22 -0400 (Fri, 10 Oct 2025) EndedAt: 2025-10-10 15:07:25 -0400 (Fri, 10 Oct 2025) EllapsedTime: 2.9 seconds RetCode: 0 Status: OK