Package: AnVIL Version: 1.21.10 Command: /Library/Frameworks/R.framework/Resources/bin/R CMD build --keep-empty-dirs --no-resave-data AnVIL StartedAt: 2025-10-12 15:37:33 -0400 (Sun, 12 Oct 2025) EndedAt: 2025-10-12 15:37:39 -0400 (Sun, 12 Oct 2025) EllapsedTime: 6.1 seconds RetCode: 0 Status: OK PackageFile: AnVIL_1.21.10.tar.gz PackageFileSize: 1.158 MiB