Package: AnVIL Version: 1.21.10 Command: rm -rf AnVIL.buildbin-libdir && mkdir AnVIL.buildbin-libdir && /Users/biocbuild/BBS/utils/build-universal.sh AnVIL_1.21.10.tar.gz /Library/Frameworks/R.framework/Resources/bin/R AnVIL.buildbin-libdir StartedAt: 2025-10-12 22:28:23 -0400 (Sun, 12 Oct 2025) EndedAt: 2025-10-12 22:28:26 -0400 (Sun, 12 Oct 2025) EllapsedTime: 3.1 seconds RetCode: 0 Status: OK PackageFile: AnVIL_1.21.10.tgz PackageFileSize: 1.022 MiB