Package: AlpsNMR Version: 4.13.0 Command: /home/biocbuild/bbs-3.23-bioc/R/bin/R CMD INSTALL AlpsNMR StartedAt: 2025-11-17 15:10:24 -0500 (Mon, 17 Nov 2025) EndedAt: 2025-11-17 15:10:48 -0500 (Mon, 17 Nov 2025) EllapsedTime: 24.2 seconds RetCode: 0 Status: OK