Package: AlpsNMR Version: 4.13.0 Command: /home/biocbuild/bbs-3.23-bioc/R/bin/R CMD build --keep-empty-dirs --no-resave-data AlpsNMR StartedAt: 2025-11-17 16:10:59 -0500 (Mon, 17 Nov 2025) EndedAt: 2025-11-17 16:12:56 -0500 (Mon, 17 Nov 2025) EllapsedTime: 117.1 seconds RetCode: 0 Status: OK PackageFile: AlpsNMR_4.13.0.tar.gz PackageFileSize: 3.703 MiB