Package: AlpsNMR Version: 4.13.0 Command: /Library/Frameworks/R.framework/Resources/bin/R CMD INSTALL AlpsNMR StartedAt: 2025-11-17 15:10:34 -0500 (Mon, 17 Nov 2025) EndedAt: 2025-11-17 15:11:01 -0500 (Mon, 17 Nov 2025) EllapsedTime: 26.9 seconds RetCode: 0 Status: OK