Package: AlpsNMR Version: 4.13.0 Command: /Library/Frameworks/R.framework/Resources/bin/R CMD build --keep-empty-dirs --no-resave-data AlpsNMR StartedAt: 2025-11-18 16:02:27 -0500 (Tue, 18 Nov 2025) EndedAt: 2025-11-18 16:05:00 -0500 (Tue, 18 Nov 2025) EllapsedTime: 153.5 seconds RetCode: 0 Status: OK PackageFile: AlpsNMR_4.13.0.tar.gz PackageFileSize: 3.7 MiB