Package: AlpsNMR Version: 4.13.0 Command: rm -rf AlpsNMR.buildbin-libdir && mkdir AlpsNMR.buildbin-libdir && /Users/biocbuild/BBS/utils/build-universal.sh AlpsNMR_4.13.0.tar.gz /Library/Frameworks/R.framework/Resources/bin/R AlpsNMR.buildbin-libdir StartedAt: 2025-11-17 06:43:49 -0500 (Mon, 17 Nov 2025) EndedAt: 2025-11-17 06:44:11 -0500 (Mon, 17 Nov 2025) EllapsedTime: 22.5 seconds RetCode: 0 Status: OK PackageFile: AlpsNMR_4.13.0.tgz PackageFileSize: 4.194 MiB